BEGIN:VCALENDAR
VERSION:2.0
PRODID:-//The Original Mother&#039;s - Chicago Bar and Night Club - ECPv6.0.10//NONSGML v1.0//EN
CALSCALE:GREGORIAN
METHOD:PUBLISH
X-WR-CALNAME:The Original Mother&#039;s - Chicago Bar and Night Club
X-ORIGINAL-URL:https://wp.empistdev.com/originalmothers
X-WR-CALDESC:Events for The Original Mother&#039;s - Chicago Bar and Night Club
REFRESH-INTERVAL;VALUE=DURATION:PT1H
X-Robots-Tag:noindex
X-PUBLISHED-TTL:PT1H
BEGIN:VTIMEZONE
TZID:America/Chicago
BEGIN:DAYLIGHT
TZOFFSETFROM:-0600
TZOFFSETTO:-0500
TZNAME:CDT
DTSTART:20230312T080000
END:DAYLIGHT
BEGIN:STANDARD
TZOFFSETFROM:-0500
TZOFFSETTO:-0600
TZNAME:CST
DTSTART:20231105T070000
END:STANDARD
END:VTIMEZONE
BEGIN:VEVENT
DTSTART;TZID=America/Chicago:20230302T210000
DTEND;TZID=America/Chicago:20230303T010000
DTSTAMP:20260422T104314
CREATED:20230228T132833Z
LAST-MODIFIED:20230228T132833Z
UID:2342-1677790800-1677805200@wp.empistdev.com
SUMMARY:Robert Deason & Emily Popli
DESCRIPTION:
URL:https://wp.empistdev.com/originalmothers/event/robert-deason-emily-popli-5/
END:VEVENT
BEGIN:VEVENT
DTSTART;TZID=America/Chicago:20230303T220000
DTEND;TZID=America/Chicago:20230304T020000
DTSTAMP:20260422T104314
CREATED:20230228T131437Z
LAST-MODIFIED:20230228T131437Z
UID:2319-1677880800-1677895200@wp.empistdev.com
SUMMARY:Kaleen Dolan & Chris Heroldt
DESCRIPTION:
URL:https://wp.empistdev.com/originalmothers/event/kaleen-dolan-chris-heroldt/
END:VEVENT
BEGIN:VEVENT
DTSTART;TZID=America/Chicago:20230304T220000
DTEND;TZID=America/Chicago:20230305T020000
DTSTAMP:20260422T104314
CREATED:20230228T131555Z
LAST-MODIFIED:20230228T132220Z
UID:2321-1677967200-1677981600@wp.empistdev.com
SUMMARY:Kaleen Dolan & John Tashijan
DESCRIPTION:
URL:https://wp.empistdev.com/originalmothers/event/kaleen-dolan-john-tashijan/
END:VEVENT
BEGIN:VEVENT
DTSTART;TZID=America/Chicago:20230309T210000
DTEND;TZID=America/Chicago:20230310T010000
DTSTAMP:20260422T104314
CREATED:20230228T131227Z
LAST-MODIFIED:20230228T132251Z
UID:2317-1678395600-1678410000@wp.empistdev.com
SUMMARY:Robert Deason & Emily Popli
DESCRIPTION:
URL:https://wp.empistdev.com/originalmothers/event/robert-deason-emily-popli-2/
END:VEVENT
BEGIN:VEVENT
DTSTART;TZID=America/Chicago:20230310T220000
DTEND;TZID=America/Chicago:20230311T020000
DTSTAMP:20260422T104314
CREATED:20230228T131759Z
LAST-MODIFIED:20230228T132640Z
UID:2326-1678485600-1678500000@wp.empistdev.com
SUMMARY:Kaleen Dolan & John Tashijan
DESCRIPTION:
URL:https://wp.empistdev.com/originalmothers/event/kaleen-dolan-john-tashijan-2/
END:VEVENT
BEGIN:VEVENT
DTSTART;TZID=America/Chicago:20230311T220000
DTEND;TZID=America/Chicago:20230312T020000
DTSTAMP:20260422T104314
CREATED:20230228T131818Z
LAST-MODIFIED:20230228T133120Z
UID:2328-1678572000-1678586400@wp.empistdev.com
SUMMARY:Emily Popli & Frank Blackman
DESCRIPTION:
URL:https://wp.empistdev.com/originalmothers/event/emily-popli-frank-blackman/
END:VEVENT
BEGIN:VEVENT
DTSTART;TZID=America/Chicago:20230316T210000
DTEND;TZID=America/Chicago:20230317T010000
DTSTAMP:20260422T104314
CREATED:20230228T131735Z
LAST-MODIFIED:20230228T132932Z
UID:2324-1679000400-1679014800@wp.empistdev.com
SUMMARY:Robert Deason & Emily Popli
DESCRIPTION:
URL:https://wp.empistdev.com/originalmothers/event/robert-deason-emily-popli/
END:VEVENT
BEGIN:VEVENT
DTSTART;TZID=America/Chicago:20230317T220000
DTEND;TZID=America/Chicago:20230318T020000
DTSTAMP:20260422T104314
CREATED:20230228T131906Z
LAST-MODIFIED:20230228T132506Z
UID:2332-1679090400-1679104800@wp.empistdev.com
SUMMARY:Duncan Parker & Clara De Leon
DESCRIPTION:
URL:https://wp.empistdev.com/originalmothers/event/duncan-parker-clara-de-leon/
END:VEVENT
BEGIN:VEVENT
DTSTART;TZID=America/Chicago:20230318T220000
DTEND;TZID=America/Chicago:20230319T020000
DTSTAMP:20260422T104314
CREATED:20230228T131948Z
LAST-MODIFIED:20230228T132435Z
UID:2334-1679176800-1679191200@wp.empistdev.com
SUMMARY:John Tashijan & Clara De Leon
DESCRIPTION:
URL:https://wp.empistdev.com/originalmothers/event/john-tashijan-clara-de-leon/
END:VEVENT
BEGIN:VEVENT
DTSTART;TZID=America/Chicago:20230323T210000
DTEND;TZID=America/Chicago:20230324T010000
DTSTAMP:20260422T104314
CREATED:20230228T132011Z
LAST-MODIFIED:20230228T133003Z
UID:2336-1679605200-1679619600@wp.empistdev.com
SUMMARY:Robert Deason & Emily Popli
DESCRIPTION:
URL:https://wp.empistdev.com/originalmothers/event/robert-deason-emily-popli-4/
END:VEVENT
BEGIN:VEVENT
DTSTART;TZID=America/Chicago:20230324T220000
DTEND;TZID=America/Chicago:20230325T020000
DTSTAMP:20260422T104314
CREATED:20230228T132030Z
LAST-MODIFIED:20230228T132338Z
UID:2338-1679695200-1679709600@wp.empistdev.com
SUMMARY:Kaleen Dolan & Chris Heroldt
DESCRIPTION:
URL:https://wp.empistdev.com/originalmothers/event/kaleen-dolan-chris-heroldt-2/
END:VEVENT
BEGIN:VEVENT
DTSTART;TZID=America/Chicago:20230325T220000
DTEND;TZID=America/Chicago:20230326T020000
DTSTAMP:20260422T104314
CREATED:20230228T132115Z
LAST-MODIFIED:20230228T132115Z
UID:2340-1679781600-1679796000@wp.empistdev.com
SUMMARY:Kaleen Dolan & Duncan Parker
DESCRIPTION:
URL:https://wp.empistdev.com/originalmothers/event/kaleen-dolan-duncan-parker/
END:VEVENT
END:VCALENDAR